BEGIN:VCALENDAR
VERSION:2.0
PRODID:-//Bay Quilters - ECPv6.15.17.1//NONSGML v1.0//EN
CALSCALE:GREGORIAN
METHOD:PUBLISH
X-WR-CALNAME:Bay Quilters
X-ORIGINAL-URL:https://www.bayquilters.com.au
X-WR-CALDESC:Events for Bay Quilters
REFRESH-INTERVAL;VALUE=DURATION:PT1H
X-Robots-Tag:noindex
X-PUBLISHED-TTL:PT1H
BEGIN:VTIMEZONE
TZID:Australia/Melbourne
BEGIN:STANDARD
TZOFFSETFROM:+1100
TZOFFSETTO:+1000
TZNAME:AEST
DTSTART:20250405T160000
END:STANDARD
BEGIN:DAYLIGHT
TZOFFSETFROM:+1000
TZOFFSETTO:+1100
TZNAME:AEDT
DTSTART:20251004T160000
END:DAYLIGHT
BEGIN:STANDARD
TZOFFSETFROM:+1100
TZOFFSETTO:+1000
TZNAME:AEST
DTSTART:20260404T160000
END:STANDARD
BEGIN:DAYLIGHT
TZOFFSETFROM:+1000
TZOFFSETTO:+1100
TZNAME:AEDT
DTSTART:20261003T160000
END:DAYLIGHT
BEGIN:STANDARD
TZOFFSETFROM:+1100
TZOFFSETTO:+1000
TZNAME:AEST
DTSTART:20270403T160000
END:STANDARD
BEGIN:DAYLIGHT
TZOFFSETFROM:+1000
TZOFFSETTO:+1100
TZNAME:AEDT
DTSTART:20271002T160000
END:DAYLIGHT
END:VTIMEZONE
BEGIN:VEVENT
DTSTART;TZID=Australia/Melbourne:20260221T093000
DTEND;TZID=Australia/Melbourne:20260221T143000
DTSTAMP:20260422T015604
CREATED:20260103T033056Z
LAST-MODIFIED:20260105T060741Z
UID:18681-1771666200-1771684200@www.bayquilters.com.au
SUMMARY:Bay Quilters Monthly Meeting - Saturday 21st February - Guest speaker:  Tania Tanti\, Summer Challenge
DESCRIPTION:Guest Speaker:  Don’t miss today’s meeting\, with the amazing Tania Tanti as our guest speaker.  Tania has won numerous awards for her amazing quilts\, I am sure you will all have seen her work at the various quilt shows around Victoria and also on social media.  We are very lucky to have Tania speak to us today about her quilting journey. \nSummer Challenge:  today we will be voting for the Summer Challenge – the theme for the quilt blocks is HOPE.  Come and cast your vote for your favourite block. \nThe Trading Table and the library are open from 10 am – 11 am. \nAs usual for our meetings\, please bring your name badge\,  lunch\, your mug and your sewing.  We look forward to seeing you all.
URL:https://www.bayquilters.com.au/event/bay-quilters-monthly-meeting-5/
LOCATION:Beaumaris Library Hall\, 96 Reserve Road\, Beaumaris\, VIC\, 3193\, Australia
CATEGORIES:Monthly Meeting
END:VEVENT
END:VCALENDAR