BEGIN:VCALENDAR
VERSION:2.0
PRODID:-//Bay Quilters - ECPv6.15.17.1//NONSGML v1.0//EN
CALSCALE:GREGORIAN
METHOD:PUBLISH
X-WR-CALNAME:Bay Quilters
X-ORIGINAL-URL:https://www.bayquilters.com.au
X-WR-CALDESC:Events for Bay Quilters
REFRESH-INTERVAL;VALUE=DURATION:PT1H
X-Robots-Tag:noindex
X-PUBLISHED-TTL:PT1H
BEGIN:VTIMEZONE
TZID:Australia/Melbourne
BEGIN:STANDARD
TZOFFSETFROM:+1100
TZOFFSETTO:+1000
TZNAME:AEST
DTSTART:20250405T160000
END:STANDARD
BEGIN:DAYLIGHT
TZOFFSETFROM:+1000
TZOFFSETTO:+1100
TZNAME:AEDT
DTSTART:20251004T160000
END:DAYLIGHT
BEGIN:STANDARD
TZOFFSETFROM:+1100
TZOFFSETTO:+1000
TZNAME:AEST
DTSTART:20260404T160000
END:STANDARD
BEGIN:DAYLIGHT
TZOFFSETFROM:+1000
TZOFFSETTO:+1100
TZNAME:AEDT
DTSTART:20261003T160000
END:DAYLIGHT
BEGIN:STANDARD
TZOFFSETFROM:+1100
TZOFFSETTO:+1000
TZNAME:AEST
DTSTART:20270403T160000
END:STANDARD
BEGIN:DAYLIGHT
TZOFFSETFROM:+1000
TZOFFSETTO:+1100
TZNAME:AEDT
DTSTART:20271002T160000
END:DAYLIGHT
END:VTIMEZONE
BEGIN:VEVENT
DTSTART;TZID=Australia/Melbourne:20260418T093000
DTEND;TZID=Australia/Melbourne:20260418T143000
DTSTAMP:20260422T174446
CREATED:20260108T050950Z
LAST-MODIFIED:20260408T075928Z
UID:18743-1776504600-1776522600@www.bayquilters.com.au
SUMMARY:Bay Quilters Monthly Meeting - Saturday 18th April - Orphan Block Swap\, Embroidery Skill Share
DESCRIPTION:Today is our annual Orphan Block Swap.  Bring along any of your unfinished projects\, orphan blocks etc that you are ready to pass on to someone else.  Over the years\, we have had some amazing finishes by our members\, and it’s always exciting to look and see what might take your fancy!!  It’s funny how someone else’s project is more interesting than finishing the 100+ other things you have at home!!  So join in the fun\, bring something to swap or donate\, and pick up a potential masterpiece! \nPlease remember though\, if your orphans don’t get adopted\, you will have to take them back home again and finish them yourself!! \nThere will not be a trading table this month\, as the trading table with turn into the orphan block table. \nSandra Warren Smith will be running an embroidery stitches Skill Share\, this is going to be amazing so make sure you bring with you a 10 inch square of white fabric\, some stabiliser\, a needle\, and some embroidery thread\, so that you can take part. \nThe library will be open as usual. \nAs usual for our meetings\, please bring your name badge\,  lunch\, your mug and your sewing.  We look forward to seeing you all.
URL:https://www.bayquilters.com.au/event/bay-quilters-monthly-meeting-6/
LOCATION:Beaumaris Library Hall\, 96 Reserve Road\, Beaumaris\, VIC\, 3193\, Australia
CATEGORIES:Monthly Meeting
END:VEVENT
BEGIN:VEVENT
DTSTART;TZID=Australia/Melbourne:20260516T093000
DTEND;TZID=Australia/Melbourne:20260516T143000
DTSTAMP:20260422T174446
CREATED:20260108T051556Z
LAST-MODIFIED:20260408T080124Z
UID:18748-1778923800-1778941800@www.bayquilters.com.au
SUMMARY:Bay Quilters Monthly Meeting - Guest Speaker Barbie Mitchell - Big Stitch Quilting
DESCRIPTION:Our Guest Speaker today is Barbie Mitchell\, who will be talking about her quilting journey\, big stitch quilting\, being an Aurifil artisan\, and more\, and sharing her amazing quilts with us.. \nDon’t forget to register for her workshop on big stitch quilting\, being held tomorrow\, 17th May. \nThe Trading Table and the library will be open as usual from 10 am – 11 am. \nPlease bring your name badge\,  lunch\, your mug and your sewing.  We look forward to seeing you all.
URL:https://www.bayquilters.com.au/event/bay-quilters-monthly-meeting-saturday-2/
LOCATION:Beaumaris Library Hall\, 96 Reserve Road\, Beaumaris\, VIC\, 3193\, Australia
CATEGORIES:Monthly Meeting
END:VEVENT
BEGIN:VEVENT
DTSTART;TZID=Australia/Melbourne:20260620T093000
DTEND;TZID=Australia/Melbourne:20260620T143000
DTSTAMP:20260422T174446
CREATED:20260108T052110Z
LAST-MODIFIED:20260413T051854Z
UID:18754-1781947800-1781965800@www.bayquilters.com.au
SUMMARY:Bay Quilters Monthly Meeting - Saturday 20th June:  Guest Speaker Irene Blanck
DESCRIPTION:Our guest speaker today is Irene Blanck\, who will be sharing her beautiful applique quilts with us.  Don’t miss this opportunity to get up close and personal with Irene’s amazing collection of quilts\, and listen to her quilting journey. \nThe Trading Table and the library will be open from 10 am – 11 am. \nAs usual for our meetings\, please bring your name badge\,  lunch\, your mug and your sewing.  We look forward to seeing you all.
URL:https://www.bayquilters.com.au/event/bay-quilters-monthly-meeting-7/
LOCATION:Beaumaris Library Hall\, 96 Reserve Road\, Beaumaris\, VIC\, 3193\, Australia
CATEGORIES:Monthly Meeting
END:VEVENT
BEGIN:VEVENT
DTSTART;TZID=Australia/Melbourne:20260718T093000
DTEND;TZID=Australia/Melbourne:20260718T143000
DTSTAMP:20260422T174446
CREATED:20260227T031942Z
LAST-MODIFIED:20260413T052115Z
UID:18955-1784367000-1784385000@www.bayquilters.com.au
SUMMARY:Bay Quilters Annual General Meeting - Saturday 18 July
DESCRIPTION:AGM \nThe Trading Table and the library will be open from 10 am – 11 am. \nAs usual for our meetings\, please bring your name badge\,  lunch\, your mug and your sewing.  We look forward to seeing you all.
URL:https://www.bayquilters.com.au/event/bay-quilters-annual-general-meeting-saturday-18-july/
LOCATION:Beaumaris Library Hall\, 96 Reserve Road\, Beaumaris\, VIC\, 3193\, Australia
CATEGORIES:Monthly Meeting
END:VEVENT
BEGIN:VEVENT
DTSTART;TZID=Australia/Melbourne:20260815T093000
DTEND;TZID=Australia/Melbourne:20260815T143000
DTSTAMP:20260422T174446
CREATED:20260227T034045Z
LAST-MODIFIED:20260413T052241Z
UID:18961-1786786200-1786804200@www.bayquilters.com.au
SUMMARY:Bay Quilters Monthly Meeting - Saturday 15 August
DESCRIPTION:  \nThe Trading Table and the library will be open from 10 am – 11 am. \nAs usual for our meetings\, please bring your name badge\,  lunch\, your mug and your sewing.  We look forward to seeing you all.
URL:https://www.bayquilters.com.au/event/bay-quilters-monthly-meeting-saturday-15-august/
LOCATION:Beaumaris Library Hall\, 96 Reserve Road\, Beaumaris\, VIC\, 3193\, Australia
CATEGORIES:Monthly Meeting
END:VEVENT
BEGIN:VEVENT
DTSTART;TZID=Australia/Melbourne:20260919T093000
DTEND;TZID=Australia/Melbourne:20260919T143000
DTSTAMP:20260422T174446
CREATED:20260227T034219Z
LAST-MODIFIED:20260413T052611Z
UID:18963-1789810200-1789828200@www.bayquilters.com.au
SUMMARY:Bay Quilters Monthly Meeting - Saturday 19 September
DESCRIPTION:  \nThe Trading Table and the library will be open from 10 am – 11 am. \nAs usual for our meetings\, please bring your name badge\,  lunch\, your mug and your sewing.  We look forward to seeing you all.
URL:https://www.bayquilters.com.au/event/bay-quilters-monthly-meeting-saturday-19-september/
LOCATION:Beaumaris Library Hall\, 96 Reserve Road\, Beaumaris\, VIC\, 3193\, Australia
CATEGORIES:Monthly Meeting
END:VEVENT
BEGIN:VEVENT
DTSTART;TZID=Australia/Melbourne:20261017T093000
DTEND;TZID=Australia/Melbourne:20261017T143000
DTSTAMP:20260422T174446
CREATED:20260227T035357Z
LAST-MODIFIED:20260413T052439Z
UID:18968-1792229400-1792247400@www.bayquilters.com.au
SUMMARY:Bay Quilters Monthly Meeting - Saturday\, 17th October - Guest Speaker:  Heather Verkade.  Shop:  These Clever Hands
DESCRIPTION:Guest speaker:  Heather Verkade \nShop:  These Clever Hands \nThe Trading Table and the library will be open from 10 am – 11 am. \nAs usual for our meetings\, please bring your name badge\,  lunch\, your mug and your sewing.  We look forward to seeing you all.
URL:https://www.bayquilters.com.au/event/bay-quilters-monthly-meeting-saturday-17th-october-guest-speaker-heather-verkade-shop-these-clever-hands/
LOCATION:Beaumaris Library Hall\, 96 Reserve Road\, Beaumaris\, VIC\, 3193\, Australia
CATEGORIES:Monthly Meeting
END:VEVENT
BEGIN:VEVENT
DTSTART;TZID=Australia/Melbourne:20261121T093000
DTEND;TZID=Australia/Melbourne:20261121T143000
DTSTAMP:20260422T174446
CREATED:20260227T040054Z
LAST-MODIFIED:20260413T052318Z
UID:18971-1795253400-1795271400@www.bayquilters.com.au
SUMMARY:Bay Quilters Christmas Meeting:  Saturday\, 21 November
DESCRIPTION:  \nThe Trading Table and the library will be open from 10 am – 11 am. \nAs usual for our meetings\, please bring your name badge\,  lunch\, your mug and your sewing.  We look forward to seeing you all.
URL:https://www.bayquilters.com.au/event/bay-quilters-christmas-meeting-saturday-21-november/
LOCATION:Beaumaris Library Hall\, 96 Reserve Road\, Beaumaris\, VIC\, 3193\, Australia
CATEGORIES:Monthly Meeting
END:VEVENT
END:VCALENDAR