BEGIN:VCALENDAR
VERSION:2.0
PRODID:-//Bay Quilters - ECPv6.15.17.1//NONSGML v1.0//EN
CALSCALE:GREGORIAN
METHOD:PUBLISH
X-WR-CALNAME:Bay Quilters
X-ORIGINAL-URL:https://www.bayquilters.com.au
X-WR-CALDESC:Events for Bay Quilters
REFRESH-INTERVAL;VALUE=DURATION:PT1H
X-Robots-Tag:noindex
X-PUBLISHED-TTL:PT1H
BEGIN:VTIMEZONE
TZID:Australia/Melbourne
BEGIN:STANDARD
TZOFFSETFROM:+1100
TZOFFSETTO:+1000
TZNAME:AEST
DTSTART:20250405T160000
END:STANDARD
BEGIN:DAYLIGHT
TZOFFSETFROM:+1000
TZOFFSETTO:+1100
TZNAME:AEDT
DTSTART:20251004T160000
END:DAYLIGHT
BEGIN:STANDARD
TZOFFSETFROM:+1100
TZOFFSETTO:+1000
TZNAME:AEST
DTSTART:20260404T160000
END:STANDARD
BEGIN:DAYLIGHT
TZOFFSETFROM:+1000
TZOFFSETTO:+1100
TZNAME:AEDT
DTSTART:20261003T160000
END:DAYLIGHT
BEGIN:STANDARD
TZOFFSETFROM:+1100
TZOFFSETTO:+1000
TZNAME:AEST
DTSTART:20270403T160000
END:STANDARD
BEGIN:DAYLIGHT
TZOFFSETFROM:+1000
TZOFFSETTO:+1100
TZNAME:AEDT
DTSTART:20271002T160000
END:DAYLIGHT
END:VTIMEZONE
BEGIN:VEVENT
DTSTART;TZID=Australia/Melbourne:20260517T093000
DTEND;TZID=Australia/Melbourne:20260517T160000
DTSTAMP:20260419T231917
CREATED:20260108T004900Z
LAST-MODIFIED:20260408T074146Z
UID:18733-1779010200-1779033600@www.bayquilters.com.au
SUMMARY:Big Stitch Quilting with Barbie Mitchell - Sunday\, 17th May\, 9.30am - 4pm at Highett Neighbourhood House
DESCRIPTION:Come and join us for a fun and relaxing day exploring big stitch quilting with Barbie Mitchell. \nYou can read more about Barbie here: \nhttps://barbiemitchell.com.au/about \nPlease click on the button below and register for the event. \nCost of workshop:  $75.00.    Please pay this amount into our bank account to hold your place on the workshop.  Please email Emma at treasurer@bayquilters.com.au to confirm you have paid. \nRequirements List:  click on this link to view the requirements: \nhttps://www.bayquilters.com.au/wp-content/uploads/2026/04/Requirements-list-for-BM-workshop-participants.pdf \nPlease note:  There is an additional cost of $25.00 payable to Barbie on the day for the pattern and course material.   \nBay Quilters Cancellation Policy applies to this event.  Please read the policy by clicking on the link: \nhttps://www.bayquilters.com.au/wp-content/uploads/2024/11/BQ-Cancellation-Policy-July2024.pdf \nAttendance: 24 / 24Registrations are closed for this event 		\n		\n  \n  \n 
URL:https://www.bayquilters.com.au/event/big-stitch-quilting-with-barbie-mitchell-sunday-17th-may-9-30am-4pm-at-highett-neighbourhood-house/
LOCATION:Highett Neighbourhood Community House\, 2 Livingston Street\, Highett\, VICTORIA\, 3188\, Australia
CATEGORIES:Workshop
END:VEVENT
END:VCALENDAR