BEGIN:VCALENDAR
VERSION:2.0
PRODID:-//Bay Quilters - ECPv6.15.17.1//NONSGML v1.0//EN
CALSCALE:GREGORIAN
METHOD:PUBLISH
X-WR-CALNAME:Bay Quilters
X-ORIGINAL-URL:https://www.bayquilters.com.au
X-WR-CALDESC:Events for Bay Quilters
REFRESH-INTERVAL;VALUE=DURATION:PT1H
X-Robots-Tag:noindex
X-PUBLISHED-TTL:PT1H
BEGIN:VTIMEZONE
TZID:Australia/Melbourne
BEGIN:STANDARD
TZOFFSETFROM:+1100
TZOFFSETTO:+1000
TZNAME:AEST
DTSTART:20240406T160000
END:STANDARD
BEGIN:DAYLIGHT
TZOFFSETFROM:+1000
TZOFFSETTO:+1100
TZNAME:AEDT
DTSTART:20241005T160000
END:DAYLIGHT
BEGIN:STANDARD
TZOFFSETFROM:+1100
TZOFFSETTO:+1000
TZNAME:AEST
DTSTART:20250405T160000
END:STANDARD
BEGIN:DAYLIGHT
TZOFFSETFROM:+1000
TZOFFSETTO:+1100
TZNAME:AEDT
DTSTART:20251004T160000
END:DAYLIGHT
BEGIN:STANDARD
TZOFFSETFROM:+1100
TZOFFSETTO:+1000
TZNAME:AEST
DTSTART:20260404T160000
END:STANDARD
BEGIN:DAYLIGHT
TZOFFSETFROM:+1000
TZOFFSETTO:+1100
TZNAME:AEDT
DTSTART:20261003T160000
END:DAYLIGHT
END:VTIMEZONE
BEGIN:VEVENT
DTSTART;TZID=Australia/Melbourne:20250621T100000
DTEND;TZID=Australia/Melbourne:20250621T143000
DTSTAMP:20260422T043015
CREATED:20250305T070259Z
LAST-MODIFIED:20250408T004953Z
UID:17428-1750500000-1750516200@www.bayquilters.com.au
SUMMARY:Bay Quilters Monthly Meeting - Japanese Day
DESCRIPTION:Today we are having a Japanese themed day – the Trading Table will be putting together a collection of fabric and other items for sale.  We have a lot of very good quality Japanese fabric from Jenny Carmichael’s stash (donated to us by her daughter) so we are making a day of it\, and going all Japanese-y.  SOOO\, bring along any quilts or other items for Show and Tell\, to help with the theme.  Or even wear a kimono!! \nAs usual for our meetings\, please bring your name badge\,  lunch\, your mug and your sewing.  We look forward to seeing everyone.
URL:https://www.bayquilters.com.au/event/bay-quilters-monthly-meeting/
LOCATION:Beaumaris Library Hall\, 96 Reserve Road\, Beaumaris\, VIC\, 3193\, Australia
CATEGORIES:Monthly Meeting
END:VEVENT
BEGIN:VEVENT
DTSTART;TZID=Australia/Melbourne:20250607T100000
DTEND;TZID=Australia/Melbourne:20250607T143000
DTSTAMP:20260422T043015
CREATED:20241228T071959Z
LAST-MODIFIED:20250305T070049Z
UID:16717-1749290400-1749306600@www.bayquilters.com.au
SUMMARY:Contemporary Group - Saturday\, 7th June at 10 am - Free Motion Quilting
DESCRIPTION:Today we are honing our FMQ skills! \nThis event costs $5 per person to cover the cost of hiring the room.  Please make sure you have the correct cash with you.  Please sign the BQ attendance book on arrival for insurance purposes. \nAs well as your NAME BADGE\, sewing essentials\, please bring your own lunch\, drink\, mug and any utensils you need. \nA requirements list and information will be sent out via email prior to the date.  Please arrive before 10 am if possible\, so that we can get set up and ready to start at 10 o’clock.
URL:https://www.bayquilters.com.au/event/contemporary-group-at-highett-neighbourhood-house-saturday-7th-june-at-10-am/
LOCATION:Highett Neighbourhood Community House\, 2 Livingston Street\, Highett\, VICTORIA\, 3188\, Australia
CATEGORIES:Contemporary Group
END:VEVENT
BEGIN:VEVENT
DTSTART;TZID=Australia/Melbourne:20250602T193000
DTEND;TZID=Australia/Melbourne:20250602T210000
DTSTAMP:20260422T043015
CREATED:20250305T065913Z
LAST-MODIFIED:20250305T065913Z
UID:17425-1748892600-1748898000@www.bayquilters.com.au
SUMMARY:Bay Quilters Committee Meeting on Zoom
DESCRIPTION:Monthly Committee Meeting on Zoom \n \n\n	This content has been restricted to logged-in users only. Please log in to view this content.\n\n\n 
URL:https://www.bayquilters.com.au/event/bay-quilters-committee-meeting-on-zoom-25/
CATEGORIES:Committee Meeting,Zoom Meeting
END:VEVENT
BEGIN:VEVENT
DTSTART;TZID=Australia/Melbourne:20250517T100000
DTEND;TZID=Australia/Melbourne:20250517T143000
DTSTAMP:20260422T043015
CREATED:20241228T072557Z
LAST-MODIFIED:20250430T002316Z
UID:16721-1747476000-1747492200@www.bayquilters.com.au
SUMMARY:Bay Quilters Monthly Meeting - Orphan Block Swap
DESCRIPTION:  \nToday is our annual orphan block swap/trade.  Bring along lots of your unfinished/unwanted projects\, and any orphan blocks etc for swapping or donating to someone else who is happy to finish them.  And maybe go home with something that takes your fancy!! \nThe Trading table and library will be open today as usual. \nAs usual for our meetings\, please bring your name badge\,  lunch\, your mug and your sewing.  We look forward to seeing everyone.
URL:https://www.bayquilters.com.au/event/bay-quilters-general-meeting-14/
LOCATION:Beaumaris Library Hall\, 96 Reserve Road\, Beaumaris\, VIC\, 3193\, Australia
CATEGORIES:Monthly Meeting
END:VEVENT
BEGIN:VEVENT
DTSTART;TZID=Australia/Melbourne:20250510T100000
DTEND;TZID=Australia/Melbourne:20250510T160000
DTSTAMP:20260422T043015
CREATED:20250110T043252Z
LAST-MODIFIED:20260208T035232Z
UID:16877-1746871200-1746892800@www.bayquilters.com.au
SUMMARY:Beginner's Quilt Workshop Series - Part 2 making the blocks - Saturday\, 10th May at 10 am
DESCRIPTION:Welcome to Monique’s Beginner’s Quilt Workshop Series\, Part 2.  This is a 4 part series aimed at anyone new to the world of quilting.  The dates are Saturdays\, 10th May\, 5th and possibly 6th July or 6 September (to be confirmed).  During the lessons\, you will learn all about techniques and terms used in quilting\, how to cut fabric\, how to use rulers\, how to piece various blocks\, how to put the quilt together\, and how to quilt it.  By the end of the four parts\, you should have a finished quilt!  Are you ready to jump in? \nVenue:  Highett Neighbourhood House\, from 10 am until 4 pm. \nCost is $10 a session.  Please remember to wear your name badge\, BYO lunch\, and a mug.  A requirements list will go out via email prior to the workshop. \n \nRead all about it and see the quilt you will make here: \nhttps://www.bayquilters.com.au/wp-content/uploads/2025/01/Bay-Quilters-Beginners-Course.pdf \nInterested???   Then register your interest now by clicking on the button below – the course is limited to only 15 lucky people! : \n \n 
URL:https://www.bayquilters.com.au/event/beginners-quilt-workshop-series-part-1-introduction-to-quilting-saturday-1st-march-at-10-am/
LOCATION:Highett Neighbourhood Community House\, 2 Livingston Street\, Highett\, VICTORIA\, 3188\, Australia
CATEGORIES:Workshop
END:VEVENT
BEGIN:VEVENT
DTSTART;TZID=Australia/Melbourne:20250507T190000
DTEND;TZID=Australia/Melbourne:20250507T210000
DTSTAMP:20260422T043015
CREATED:20241228T072415Z
LAST-MODIFIED:20250423T075123Z
UID:16719-1746644400-1746651600@www.bayquilters.com.au
SUMMARY:7th May at 7.00 pm  Special Event on Zoom: Jenny Carmichael Bequest:   Ruth de Vos from Perth
DESCRIPTION:Please join us for this special event on zoom\, thanks to Jenny Carmichael’s generous gift of education for us all. \nYou can find out all about Ruth on her website by clicking here:  https://www.ruthdevos.com/?srsltid=AfmBOoq8BTCGt4oquZ3DVlKouK3T6qFBwUctMWw6IEHviI-BSJKl_bes \nOr search on Instagram for  @ruthdevosart \n \nClick for Zoom\nMeeting ID: 814 0926 8625\nPasscode: BQ\n—\nOne tap mobile\n+61280156011\,\,81409268625#\,\,\,\,*914750# Australia\n+61370182005\,\,81409268625#\,\,\,\,*914750# Australia\n—\nJoin the Audio from your computer or device (internet audio)\nOR\nDial by your location\n• +61 2 8015 6011 Australia\n• +61 3 7018 2005 Australia\n• +61 7 3185 3730 Australia\n• +61 8 6119 3900 Australia\n• +61 8 7150 1149 AustraliaMeeting ID: 814 0926 8625\nTelephone Passcode: 914750\n 
URL:https://www.bayquilters.com.au/event/7th-december-1-pm-special-event-on-zoom-jenny-carmichael-bequest/
CATEGORIES:Special,Zoom Meeting
END:VEVENT
BEGIN:VEVENT
DTSTART;TZID=Australia/Melbourne:20250505T193000
DTEND;TZID=Australia/Melbourne:20250505T210000
DTSTAMP:20260422T043015
CREATED:20250505T093015Z
LAST-MODIFIED:20250505T093015Z
UID:17726-1746473400-1746478800@www.bayquilters.com.au
SUMMARY:Bay Quilters Committee Meeting on Zoom
DESCRIPTION:Monthly Committee Meeting on Zoom \n \n\n	This content has been restricted to logged-in users only. Please log in to view this content.\n\n\n 
URL:https://www.bayquilters.com.au/event/bay-quilters-committee-meeting-on-zoom-27/
CATEGORIES:Committee Meeting,Zoom Meeting
END:VEVENT
BEGIN:VEVENT
DTSTART;TZID=Australia/Melbourne:20250426T100000
DTEND;TZID=Australia/Melbourne:20250426T160000
DTSTAMP:20260422T043015
CREATED:20250406T055142Z
LAST-MODIFIED:20250406T055142Z
UID:17582-1745661600-1745683200@www.bayquilters.com.au
SUMMARY:Beginner's Quilt Workshop Series - Part 1 Introduction to Quilting - Saturday\, 26 April at 10 am
DESCRIPTION:Welcome to the repeat of Monique’s Beginner’s Quilt Workshop Series\, Day 1..  This is a 4 part series aimed at anyone new to the world of quilting.  The dates are Saturdays\, 26 April\, 10th May\, 5th and possibly 6th July or 6 September (to be confirmed).  During the lessons\, you will learn all about techniques and terms used in quilting\, how to cut fabric\, how to use rulers\, how to piece various blocks\, how to put the quilt together\, and how to quilt it.  By the end of the four parts\, you should have a finished quilt!  Are you ready to jump in? \nVenue:  Highett Neighbourhood House\, from 10 am until 4 pm. \nCost is $10 a session.  Please remember to wear your name badge\, BYO lunch\, and a mug.  A requirements list will go out via email prior to the workshop. \n \nRead all about it and see the quilt you will make here: \nhttps://www.bayquilters.com.au/wp-content/uploads/2025/01/Bay-Quilters-Beginners-Course.pdf \nInterested???   Then register your interest now by clicking on the button below – the course is limited to only 15 lucky people! : \n \n 
URL:https://www.bayquilters.com.au/event/beginners-quilt-workshop-series-part-1-introduction-to-quilting-saturday/
LOCATION:Highett Neighbourhood Community House\, 2 Livingston Street\, Highett\, VICTORIA\, 3188\, Australia
CATEGORIES:Workshop
END:VEVENT
BEGIN:VEVENT
DTSTART;TZID=Australia/Melbourne:20250426T100000
DTEND;TZID=Australia/Melbourne:20250426T150000
DTSTAMP:20260422T043015
CREATED:20250307T045233Z
LAST-MODIFIED:20250307T045751Z
UID:17443-1745661600-1745679600@www.bayquilters.com.au
SUMMARY:Chelsea Activity Hub Sewing Day - Saturday\,  26 April at 10 am
DESCRIPTION:Everybody welcome!!!   Come along and join Helen Clark and the Chelsea craft ladies and some Bay Quilters members at the Chelsea Activity Hub Craft Group for a sit and sew day.  This is a lovely relaxing sewing day in a beautiful environment.  Help sew some kits for QFTH!!  Morning tea provided\, tea and coffee provided. \nBYO machine and all you need sewing-wise.\n\nWhen: Saturday 26 April\nWhere: 5 Showers Street\, Chelsea – plenty of parking either outside or across the Highway.\nTime: 10am to 3pm\nCost: $5.00 cash at the door (please have correct money)\n\n\nBYO sewing items\, lunch\, mug\,and don’t forget your name badge.\nWe would love to see you on the day\, if only for an hour or so.\n\nPlease try and pre-register by emailing Helen Clark or give her a call\, or see Helen at the BQ Meeting\, details are in the newsletter.\nBut if you decide on the day to come\, and have not booked\, there is heaps of room for everyone.\n\n 
URL:https://www.bayquilters.com.au/event/chelsea-activity-hub-sewing-day-saturday/
LOCATION:Chelsea Activity Hub\, 5 Showers Avenue\, Chelsea\, Vic\, 3196\, Australia
CATEGORIES:Sit and Sew Day
END:VEVENT
BEGIN:VEVENT
DTSTART;TZID=Australia/Melbourne:20250419T100000
DTEND;TZID=Australia/Melbourne:20250419T143000
DTSTAMP:20260422T043015
CREATED:20241228T065244Z
LAST-MODIFIED:20250406T054615Z
UID:16709-1745056800-1745073000@www.bayquilters.com.au
SUMMARY:Bay Quilters General Meeting - Sit and Sew
DESCRIPTION:Easter Saturday.   This will be a sit and sew day\, a chance to catch up with everyone. \nAs usual for our meetings\, please bring your name badge\, lunch\, your mug and your sewing.  We look forward to seeing everyone.
URL:https://www.bayquilters.com.au/event/bay-quilters-general-meeting-13/
LOCATION:Beaumaris Library Hall\, 96 Reserve Road\, Beaumaris\, VIC\, 3193\, Australia
CATEGORIES:Monthly Meeting
END:VEVENT
BEGIN:VEVENT
DTSTART;TZID=Australia/Melbourne:20250412T100000
DTEND;TZID=Australia/Melbourne:20250412T143000
DTSTAMP:20260422T043015
CREATED:20241228T065610Z
LAST-MODIFIED:20250303T101833Z
UID:16713-1744452000-1744468200@www.bayquilters.com.au
SUMMARY:Contemporary Group - Walking Foot Quilting - 12th April
DESCRIPTION:We are meeting on the second Saturday this month as the room we use at Highett was not available on the 5th. \nThis month we begin our machine quilting exploration with walking foot quilting. \nDue to the size of the venue\, we are limiting this class to 20 people.  To secure a place you will need to register by clicking on the button below.  Once the class is full\, we will run a waitlist. \nThis event costs $5 per person to cover the cost of hiring the room.  Please make sure you have the correct cash with you.  Please sign the BQ attendance book on arrival for insurance purposes. \nAs well as your NAME BADGE\, sewing essentials\, please bring your own lunch\, drink\, mug and any utensils you need. \nA requirements list and information will be sent out via email prior to the date.  Please arrive before 10 am if possible\, so that we can get set up and ready to start at 10 o’clock. \nClick here to register: \nAttendance: 18 / 20Registrations are closed for this event \n  \n 
URL:https://www.bayquilters.com.au/event/contemporary-group-at-highett-neighbourhood-house-5/
LOCATION:Highett Neighbourhood Community House\, 2 Livingston Street\, Highett\, VICTORIA\, 3188\, Australia
CATEGORIES:Contemporary Group
END:VEVENT
BEGIN:VEVENT
DTSTART;TZID=Australia/Melbourne:20250407T193000
DTEND;TZID=Australia/Melbourne:20250407T210000
DTSTAMP:20260422T043015
CREATED:20241228T065035Z
LAST-MODIFIED:20250110T045550Z
UID:16707-1744054200-1744059600@www.bayquilters.com.au
SUMMARY:Bay Quilters Committee Meeting on Zoom
DESCRIPTION:Monthly Committee Meeting on Zoom \n \n\n	This content has been restricted to logged-in users only. Please log in to view this content.\n\n\n 
URL:https://www.bayquilters.com.au/event/bay-quilters-committee-meeting-on-zoom-24/
CATEGORIES:Committee Meeting,Zoom Meeting
END:VEVENT
BEGIN:VEVENT
DTSTART;TZID=Australia/Melbourne:20250330T100000
DTEND;TZID=Australia/Melbourne:20250330T160000
DTSTAMP:20260422T043015
CREATED:20250110T034107Z
LAST-MODIFIED:20250322T060328Z
UID:16875-1743328800-1743350400@www.bayquilters.com.au
SUMMARY:Mariya Waters Floral Applique Workshop - Sunday\, March 30 at Highett Neighbourhood House
DESCRIPTION:Come along to HNH and spend a relaxing day learning Mariya’s technique for appliqueing perfect flowers! \nA requirements list will be sent out prior to the workshop.  Please BYO lunch\, wear your name badge\, and bring a mug. \nCost: $100  workshop\, + $10 for the kit provided by Mariya. \nBay Quilters Cancellation Policy applies to this event: \nhttps://www.bayquilters.com.au/wp-content/uploads/2024/11/BQ-Cancellation-Policy-July2024.pdf \nClick on this link for the requirements list. \nhttps://www.bayquilters.com.au/wp-content/uploads/2025/01/Turned-edge-applique-technique-day.pdf \nYou can register for this workshop by clicking on the Register button below. \n \n 
URL:https://www.bayquilters.com.au/event/mariya-waters-applique-flowers-workshop-sunday-march-30-at-highett-nh/
LOCATION:Highett Neighbourhood Community House\, 2 Livingston Street\, Highett\, VICTORIA\, 3188\, Australia
CATEGORIES:Workshop
END:VEVENT
BEGIN:VEVENT
DTSTART;TZID=Australia/Melbourne:20250322T090000
DTEND;TZID=Australia/Melbourne:20250322T150000
DTSTAMP:20260422T043015
CREATED:20250304T080356Z
LAST-MODIFIED:20250304T080356Z
UID:17406-1742634000-1742655600@www.bayquilters.com.au
SUMMARY:Bay Quilters Sit and Sew Day - Saturday\, 22nd March at 9 am - Highett Neighbourhood House
DESCRIPTION:Everybody is welcome to this event!!!      Come along and join in the fun\, a day to sit and sew together. \n\nWe are going to have an organised ‘stitch-in’ for those that wish to participate where we set up work stations and everyone is given a job\, for example:  pattern/fabric selection\, cutting\, sewing\, ironing\, basting\, binding.  You are all welcome to join in\, whether you have previously made quilts for QFTH or not.  Many hands make light work!  However\, if you would rather carry on with your own project\, that is fine too!!  The idea is to spend the day sewing together. \nBYO sewing machine\, cutting mats\, scissors\, templates/rulers\, power boards\, cushion to sit on\, and all you might need sewing-wise. \nTea and coffee will be supplied.  We will ask everyone attending to bring a small plate for morning and afternoon teas.\nBYO cup\, lunch\, mug and badge.\n\n\n We would love to see you on the day\, if only for an hour or so. Please don’t forget your Bayquilters badge.\n\nPlease try and pre-register by emailing Susanne or Marg\, or give Susanne a call\, her details are in the newsletter.\nBut if you decide on the day to come\, and have not booked\, still come along and we will fit you in.\n\n 
URL:https://www.bayquilters.com.au/event/bay-quilters-sit-and-sew-day-beaumaris-library-small-hall-wednesday-25th-september/
LOCATION:Beaumaris Library Complex Small Hall\, 96 Reserve Road\, Beaumaris\, VIC\, 3193\, Australia
CATEGORIES:Sit and Sew Day
END:VEVENT
BEGIN:VEVENT
DTSTART;TZID=Australia/Melbourne:20250315T100000
DTEND;TZID=Australia/Melbourne:20250315T143000
DTSTAMP:20260422T043015
CREATED:20241227T083215Z
LAST-MODIFIED:20250304T075842Z
UID:16705-1742032800-1742049000@www.bayquilters.com.au
SUMMARY:Bay Quilters Monthly Meeting - Guest Speaker: Ruth Nunn\, Lions Club of Quilters\, Victoria
DESCRIPTION:This month\, we welcome Ruth and the Lions Club of Quilters\, Victoria\,  back to give us an update on the Australian Quilt and Textile Collection.  They will be showing us several amazing quilts purchased recently by the Collection. \nAs in previous visits\, Ruth will bring some wool suiting for sale. \nThe trading table and the library will be open. \nAs usual for our meetings\, please bring your name badge\, lunch\, your mug and your sewing.  We look forward to seeing everyone.
URL:https://www.bayquilters.com.au/event/bay-quilters-general-meeting-guest-speaker-ruth-nunn-lions-club-of-quilters-victoria/
LOCATION:Beaumaris Library Hall\, 96 Reserve Road\, Beaumaris\, VIC\, 3193\, Australia
CATEGORIES:Monthly Meeting
END:VEVENT
BEGIN:VEVENT
DTSTART;TZID=Australia/Melbourne:20250303T193000
DTEND;TZID=Australia/Melbourne:20250303T210000
DTSTAMP:20260422T043015
CREATED:20241227T082956Z
LAST-MODIFIED:20241227T082956Z
UID:16703-1741030200-1741035600@www.bayquilters.com.au
SUMMARY:Bay Quilters Committee Meeting on Zoom
DESCRIPTION:Monthly Committee Meeting on Zoom \n \n\n	This content has been restricted to logged-in users only. Please log in to view this content.\n\n\n 
URL:https://www.bayquilters.com.au/event/bay-quilters-committee-meeting-on-zoom-23/
CATEGORIES:Committee Meeting,Zoom Meeting
END:VEVENT
BEGIN:VEVENT
DTSTART;TZID=Australia/Melbourne:20250301T100000
DTEND;TZID=Australia/Melbourne:20250301T160000
DTSTAMP:20260422T043015
CREATED:20250110T005652Z
LAST-MODIFIED:20250110T011009Z
UID:16866-1740823200-1740844800@www.bayquilters.com.au
SUMMARY:Beginner's Quilt Workshop Series - Part 1 Introduction to Quilting - Saturday\, 1st March at 10 am
DESCRIPTION:Welcome to Monique’s Beginner’s Quilt Workshop Series.  This is a 4 part series aimed at anyone new to the world of quilting.  The dates are Saturdays\, 1st March\, 3rd May\, 5th and possibly 6th July or 6 September (to be confirmed).  During the lessons\, you will learn all about techniques and terms used in quilting\, how to cut fabric\, how to use rulers\, how to piece various blocks\, how to put the quilt together\, and how to quilt it.  By the end of the four parts\, you should have a finished quilt!  Are you ready to jump in? \nVenue:  Highett Neighbourhood House\, from 10 am until 4 pm. \nCost is $10 a session.  Please remember to wear your name badge\, BYO lunch\, and a mug.  A requirements list will go out via email prior to the workshop. \n \nRead all about it and see the quilt you will make here: \nhttps://www.bayquilters.com.au/wp-content/uploads/2025/01/Bay-Quilters-Beginners-Course.pdf \nInterested???   Then register your interest now by clicking on the button below – the course is limited to only 15 lucky people! : \n \n 
URL:https://www.bayquilters.com.au/event/beginners-quilt-workshop-series-part-1/
LOCATION:Highett Neighbourhood Community House\, 2 Livingston Street\, Highett\, VICTORIA\, 3188\, Australia
CATEGORIES:Workshop
END:VEVENT
BEGIN:VEVENT
DTSTART;TZID=Australia/Melbourne:20250222T140000
DTEND;TZID=Australia/Melbourne:20250222T160000
DTSTAMP:20260422T043015
CREATED:20241227T082831Z
LAST-MODIFIED:20241227T082831Z
UID:16701-1740232800-1740240000@www.bayquilters.com.au
SUMMARY:New Members Afternoon Tea - Saturday\, 22nd February  2 - 4 pm at Highett Neighbourhood House
DESCRIPTION:Hello new members!!  You are all invited to come along from 2 pm – 4 pm to a relaxed afternoon get together\, share a cuppa plus your favourite quilt with other new members and some who are ‘not so new’.  Come along and put some names to faces!! \nPlease wear your name badge. \nPlease bring a mug. \n 
URL:https://www.bayquilters.com.au/event/new-members-afternoon-tea-sunday-5th-may-at-2-pm-at-highett-neighbourhood-house/
LOCATION:Highett Neighbourhood Community House\, 2 Livingston Street\, Highett\, VICTORIA\, 3188\, Australia
CATEGORIES:Special
END:VEVENT
BEGIN:VEVENT
DTSTART;TZID=Australia/Melbourne:20250222T100000
DTEND;TZID=Australia/Melbourne:20250222T150000
DTSTAMP:20260422T043015
CREATED:20241228T065833Z
LAST-MODIFIED:20250202T020558Z
UID:16715-1740218400-1740236400@www.bayquilters.com.au
SUMMARY:Chelsea Activity Hub Sewing Day - Saturday\,  22nd February
DESCRIPTION:Everybody welcome!!!   Come along and join Helen Clark and the Chelsea craft ladies and some Bay Quilters members at the Chelsea Activity Hub Craft Group for a sit and sew day.  This is a lovely relaxing sewing day in a beautiful environment.  Help sew some kits for QFTH!!  Morning tea provided\, tea and coffee provided. \nBYO machine and all you need sewing-wise.\n\nWhen: Saturday 22 February\nWhere: 5 Showers Street\, Chelsea – plenty of parking either outside or across the Highway.\nTime: 10am to 3pm\nCost: $5.00 cash at the door (please have correct money)\n\n\nBYO sewing items\, lunch\, mug\,and don’t forget your name badge.\nWe would love to see you on the day\, if only for an hour or so.\n\nPlease try and pre-register by emailing Helen Clark or give her a call\, or see Helen at the BQ Meeting\, details are in the newsletter.\nBut if you decide on the day to come\, and have not booked\, there is heaps of room for everyone.\n\n 
URL:https://www.bayquilters.com.au/event/chelsea-activity-hub-sewing-day-3/
LOCATION:Chelsea Activity Hub\, 5 Showers Avenue\, Chelsea\, Vic\, 3196\, Australia
CATEGORIES:Sit and Sew Day
END:VEVENT
BEGIN:VEVENT
DTSTART;TZID=Australia/Melbourne:20250215T100000
DTEND;TZID=Australia/Melbourne:20250215T143000
DTSTAMP:20260422T043015
CREATED:20241227T082600Z
LAST-MODIFIED:20250110T051248Z
UID:16699-1739613600-1739629800@www.bayquilters.com.au
SUMMARY:Bay Quilters Monthly Meeting - Guest Speaker:  Linda Collins\, Quilts in the Barn\, Summer Challenge exhibition
DESCRIPTION:Linda Collins from Quilts in the Barn is our guest speaker.  She has an amazing collection of small quilts and interesting stories about her quilt making journey and her design journey.  This is a good opportunity to see her wonderful quilts up close. \nWe will be voting on our Summer Challenge – bring along your entry to take part in the exhibition! \nAs usual for our meetings\, please bring your name badge\,  lunch\, your mug and your sewing.  We look forward to seeing everyone.
URL:https://www.bayquilters.com.au/event/bay-quilters-general-meeting-12/
LOCATION:Beaumaris Library Hall\, 96 Reserve Road\, Beaumaris\, VIC\, 3193\, Australia
CATEGORIES:Monthly Meeting
END:VEVENT
BEGIN:VEVENT
DTSTART;TZID=Australia/Melbourne:20250203T193000
DTEND;TZID=Australia/Melbourne:20250203T210000
DTSTAMP:20260422T043015
CREATED:20241117T003245Z
LAST-MODIFIED:20241117T003245Z
UID:16631-1738611000-1738616400@www.bayquilters.com.au
SUMMARY:Bay Quilters Committee Meeting on Zoom
DESCRIPTION:Monthly Committee Meeting on Zoom \n \n\n	This content has been restricted to logged-in users only. Please log in to view this content.\n\n\n 
URL:https://www.bayquilters.com.au/event/bay-quilters-committee-meeting-on-zoom-22/
CATEGORIES:Committee Meeting,Zoom Meeting
END:VEVENT
BEGIN:VEVENT
DTSTART;TZID=Australia/Melbourne:20250201T100000
DTEND;TZID=Australia/Melbourne:20250201T143000
DTSTAMP:20260422T043015
CREATED:20241117T003732Z
LAST-MODIFIED:20241227T082203Z
UID:16633-1738404000-1738420200@www.bayquilters.com.au
SUMMARY:Contemporary Group at Highett Neighbourhood House - Saturday\, 1st February at 10 am: SQUIRCLES etc
DESCRIPTION:Everyone is welcome to our first meeting of the new year!   Today we are continuing our curve theme with Circles and Squircles.  Thank you to Tricia for agreeing to lead us this month in these techniques. \nThis event costs $5 per person to cover the cost of hiring the room.  Please make sure you have the correct cash with you.  Please sign the BQ attendance book on arrival for insurance purposes. \nAs well as your NAME BADGE\, sewing essentials\, please bring your own lunch\, drink\, mug and any utensils you need. \nA requirements list and information will be sent out via email prior to the date.  Please arrive before 10 am if possible\, so that we can get set up and ready to start at 10 o’clock. \n 
URL:https://www.bayquilters.com.au/event/contemporary-group-at-highett-neighbourhood-house-saturday-10th-august-at-10-am/
LOCATION:Highett Neighbourhood Community House\, 2 Livingston Street\, Highett\, VICTORIA\, 3188\, Australia
CATEGORIES:Contemporary Group
END:VEVENT
BEGIN:VEVENT
DTSTART;TZID=Australia/Melbourne:20250118T100000
DTEND;TZID=Australia/Melbourne:20250118T143000
DTSTAMP:20260422T043015
CREATED:20240731T070943Z
LAST-MODIFIED:20250110T050808Z
UID:15853-1737194400-1737210600@www.bayquilters.com.au
SUMMARY:Bay Quilters Monthly Meeting - Sit and Sew
DESCRIPTION:Welcome back\, everyone!  Happy New Year!! \nToday is a sit and sew day\, to give us all a chance to catch up after the break. \nBronwyn Stephens will pop in to say a huge thank you to everyone for all the bags we have donated to the Rotary Care Bag project\, plus we have a few more to donate.  Labels and fabric will be available at the meeting if you feel like making a few more. \nPlease remember to bring back ALL of your library books so that we can conduct our annual audit.  The Library will NOT be open for lending\, only for returning. \nAnd bring some $$$ as the Trading Table will be open to tempt us! \nAs usual for our meetings\, please wear your name badge and bring your lunch\, your mug and your sewing.  We look forward to seeing everyone.
URL:https://www.bayquilters.com.au/event/bay-quilters-general-meeting-sit-and-sew-2/
LOCATION:Beaumaris Library Hall\, 96 Reserve Road\, Beaumaris\, VIC\, 3193\, Australia
CATEGORIES:Monthly Meeting
END:VEVENT
BEGIN:VEVENT
DTSTART;TZID=Australia/Melbourne:20250106T193000
DTEND;TZID=Australia/Melbourne:20250106T210000
DTSTAMP:20260422T043015
CREATED:20240731T070305Z
LAST-MODIFIED:20240731T070305Z
UID:15850-1736191800-1736197200@www.bayquilters.com.au
SUMMARY:Bay Quilters Committee Meeting on Zoom
DESCRIPTION:Monthly Committee Meeting on Zoom \n \n\n	This content has been restricted to logged-in users only. Please log in to view this content.\n\n\n 
URL:https://www.bayquilters.com.au/event/bay-quilters-committee-meeting-on-zoom-21/
CATEGORIES:Committee Meeting,Zoom Meeting
END:VEVENT
END:VCALENDAR