BEGIN:VCALENDAR
VERSION:2.0
PRODID:-//Bay Quilters - ECPv6.15.17.1//NONSGML v1.0//EN
CALSCALE:GREGORIAN
METHOD:PUBLISH
X-WR-CALNAME:Bay Quilters
X-ORIGINAL-URL:https://www.bayquilters.com.au
X-WR-CALDESC:Events for Bay Quilters
REFRESH-INTERVAL;VALUE=DURATION:PT1H
X-Robots-Tag:noindex
X-PUBLISHED-TTL:PT1H
BEGIN:VTIMEZONE
TZID:Australia/Melbourne
BEGIN:STANDARD
TZOFFSETFROM:+1100
TZOFFSETTO:+1000
TZNAME:AEST
DTSTART:20240406T160000
END:STANDARD
BEGIN:DAYLIGHT
TZOFFSETFROM:+1000
TZOFFSETTO:+1100
TZNAME:AEDT
DTSTART:20241005T160000
END:DAYLIGHT
BEGIN:STANDARD
TZOFFSETFROM:+1100
TZOFFSETTO:+1000
TZNAME:AEST
DTSTART:20250405T160000
END:STANDARD
BEGIN:DAYLIGHT
TZOFFSETFROM:+1000
TZOFFSETTO:+1100
TZNAME:AEDT
DTSTART:20251004T160000
END:DAYLIGHT
BEGIN:STANDARD
TZOFFSETFROM:+1100
TZOFFSETTO:+1000
TZNAME:AEST
DTSTART:20260404T160000
END:STANDARD
BEGIN:DAYLIGHT
TZOFFSETFROM:+1000
TZOFFSETTO:+1100
TZNAME:AEDT
DTSTART:20261003T160000
END:DAYLIGHT
END:VTIMEZONE
BEGIN:VEVENT
DTSTART;TZID=Australia/Melbourne:20250118T100000
DTEND;TZID=Australia/Melbourne:20250118T143000
DTSTAMP:20260422T123826
CREATED:20240731T070943Z
LAST-MODIFIED:20250110T050808Z
UID:15853-1737194400-1737210600@www.bayquilters.com.au
SUMMARY:Bay Quilters Monthly Meeting - Sit and Sew
DESCRIPTION:Welcome back\, everyone!  Happy New Year!! \nToday is a sit and sew day\, to give us all a chance to catch up after the break. \nBronwyn Stephens will pop in to say a huge thank you to everyone for all the bags we have donated to the Rotary Care Bag project\, plus we have a few more to donate.  Labels and fabric will be available at the meeting if you feel like making a few more. \nPlease remember to bring back ALL of your library books so that we can conduct our annual audit.  The Library will NOT be open for lending\, only for returning. \nAnd bring some $$$ as the Trading Table will be open to tempt us! \nAs usual for our meetings\, please wear your name badge and bring your lunch\, your mug and your sewing.  We look forward to seeing everyone.
URL:https://www.bayquilters.com.au/event/bay-quilters-general-meeting-sit-and-sew-2/
LOCATION:Beaumaris Library Hall\, 96 Reserve Road\, Beaumaris\, VIC\, 3193\, Australia
CATEGORIES:Monthly Meeting
END:VEVENT
BEGIN:VEVENT
DTSTART;TZID=Australia/Melbourne:20250106T193000
DTEND;TZID=Australia/Melbourne:20250106T210000
DTSTAMP:20260422T123826
CREATED:20240731T070305Z
LAST-MODIFIED:20240731T070305Z
UID:15850-1736191800-1736197200@www.bayquilters.com.au
SUMMARY:Bay Quilters Committee Meeting on Zoom
DESCRIPTION:Monthly Committee Meeting on Zoom \n \n\n	This content has been restricted to logged-in users only. Please log in to view this content.\n\n\n 
URL:https://www.bayquilters.com.au/event/bay-quilters-committee-meeting-on-zoom-21/
LOCATION:VIC
CATEGORIES:Committee Meeting,Zoom Meeting
END:VEVENT
END:VCALENDAR