BEGIN:VCALENDAR
VERSION:2.0
PRODID:-//Bay Quilters - ECPv6.15.17.1//NONSGML v1.0//EN
CALSCALE:GREGORIAN
METHOD:PUBLISH
X-ORIGINAL-URL:https://www.bayquilters.com.au
X-WR-CALDESC:Events for Bay Quilters
REFRESH-INTERVAL;VALUE=DURATION:PT1H
X-Robots-Tag:noindex
X-PUBLISHED-TTL:PT1H
BEGIN:VTIMEZONE
TZID:Australia/Melbourne
BEGIN:STANDARD
TZOFFSETFROM:+1100
TZOFFSETTO:+1000
TZNAME:AEST
DTSTART:20240406T160000
END:STANDARD
BEGIN:DAYLIGHT
TZOFFSETFROM:+1000
TZOFFSETTO:+1100
TZNAME:AEDT
DTSTART:20241005T160000
END:DAYLIGHT
BEGIN:STANDARD
TZOFFSETFROM:+1100
TZOFFSETTO:+1000
TZNAME:AEST
DTSTART:20250405T160000
END:STANDARD
BEGIN:DAYLIGHT
TZOFFSETFROM:+1000
TZOFFSETTO:+1100
TZNAME:AEDT
DTSTART:20251004T160000
END:DAYLIGHT
BEGIN:STANDARD
TZOFFSETFROM:+1100
TZOFFSETTO:+1000
TZNAME:AEST
DTSTART:20260404T160000
END:STANDARD
BEGIN:DAYLIGHT
TZOFFSETFROM:+1000
TZOFFSETTO:+1100
TZNAME:AEDT
DTSTART:20261003T160000
END:DAYLIGHT
END:VTIMEZONE
BEGIN:VEVENT
DTSTART;TZID=Australia/Melbourne:20250802T100000
DTEND;TZID=Australia/Melbourne:20250802T143000
DTSTAMP:20260422T103845
CREATED:20250325T024500Z
LAST-MODIFIED:20250613T074541Z
UID:17522-1754128800-1754145000@www.bayquilters.com.au
SUMMARY:Contemporary Group - Saturday\, 2nd August at 10 am - Quilt As You Go with Emma
DESCRIPTION:Today\, we continue our exploration of machine quilting.   Emma has kindly agreed to teach us all about Quilt As You Go.  This makes quilting smaller pieces much easier than trying to wrangle a whole quilt through the machine\, so don’t miss out on learning this handy technique. \nHeads up:  You will need to bring some blocks or pieces already quilted and ready to put together using this method. \nThis event costs $5 per person to cover the cost of hiring the room.  Please make sure you have the correct cash with you.  Please sign the BQ attendance book on arrival for insurance purposes. \nAs well as your NAME BADGE\, sewing essentials\, please bring your own lunch\, drink\, mug and any utensils you need. \nA requirements list and information will be sent out via email prior to the date.  Please arrive before 10 am if possible\, so that we can get set up and ready to start at 10 o’clock.
URL:https://www.bayquilters.com.au/event/contemporary-group-saturday/
LOCATION:Highett Neighbourhood Community House\, 2 Livingston Street\, Highett\, VICTORIA\, 3188\, Australia
CATEGORIES:Contemporary Group
END:VEVENT
BEGIN:VEVENT
DTSTART;TZID=Australia/Melbourne:20250804T193000
DTEND;TZID=Australia/Melbourne:20250804T210000
DTSTAMP:20260422T103845
CREATED:20250730T044942Z
LAST-MODIFIED:20250730T045336Z
UID:18172-1754335800-1754341200@www.bayquilters.com.au
SUMMARY:Bay Quilters Committee Meeting on Zoom
DESCRIPTION:Monthly Committee Meeting on Zoom \n \n[/um_loggedin] \nClick for Zoom\n\nDial by your location\n•+61 3 7018 2005 \nMeeting ID: 912 2001 6969\nPasscode: 584278 \nFind your local number: https://zoom.us/u/a8NacMnqm \n[/um_loggedin] \n 
URL:https://www.bayquilters.com.au/event/bay-quilters-committee-meeting-on-zoom-32/
CATEGORIES:Committee Meeting,Zoom Meeting
END:VEVENT
BEGIN:VEVENT
DTSTART;TZID=Australia/Melbourne:20250816T100000
DTEND;TZID=Australia/Melbourne:20250816T143000
DTSTAMP:20260422T103845
CREATED:20250325T025630Z
LAST-MODIFIED:20250325T025630Z
UID:17524-1755338400-1755354600@www.bayquilters.com.au
SUMMARY:Bay Quilters Monthly Meeting - Guest Speaker Kathy Doughty of Material Obsession
DESCRIPTION:Ok everyone\, do NOT miss this!!  We are so lucky to have KATHY DOUGHTY as our guest speaker this month!!  As always\, this promises to be a fun and informative talk and Kathy will be bringing along lots of quilts to show us. \nWe will have the Trading Table and the library open from 10 am – 11 am. \nAs usual for our meetings\, please bring your name badge\,  lunch\, your mug and your sewing.  We look forward to seeing you all.
URL:https://www.bayquilters.com.au/event/bay-quilters-monthly-meeting-2/
LOCATION:Beaumaris Library Hall\, 96 Reserve Road\, Beaumaris\, VIC\, 3193\, Australia
CATEGORIES:Monthly Meeting
END:VEVENT
BEGIN:VEVENT
DTSTART;TZID=Australia/Melbourne:20250817T090000
DTEND;TZID=Australia/Melbourne:20250817T160000
DTSTAMP:20260422T103845
CREATED:20250118T060521Z
LAST-MODIFIED:20250620T081556Z
UID:17094-1755421200-1755446400@www.bayquilters.com.au
SUMMARY:Organic Applique with Kathy Doughty of Material Obsession - Sunday\, 17th August
DESCRIPTION:We are all excited to welcome Kathy back to Bay Quilters.   Kathy will be teaching her Organic Applique which is a technique-based class that enables you to access your own ideas creatively. \nIt will be a hand sewing class.  Kathy will be sharing methods of using HnK Applique paper\, making tapered stems as well as composition and fabric combination tips. \nKathy is an amazing and fun teacher\, don’t miss this opportunity to learn from one of Australia’s leading quilt makers and designers at a bargain price. \nClick on this link to see the Requirements List: \nhttps://www.bayquilters.com.au/wp-content/uploads/2025/06/Organic-Applique-Requirements-List.pdf \nBay Quilters Cancellation Policy applies to this event.  Please read the policy by clicking on the link: \nhttps://www.bayquilters.com.au/wp-content/uploads/2024/11/BQ-Cancellation-Policy-July2024.pdf \nCost:  $70.               Please pay this amount into our bank account to hold your place on the workshop.  Please email Desley at treasurer@bayquilters.com.au to confirm you have paid. \n	Bank Transfer Details\n \nPlease note:  The workshop is currently full but we are running a waiting list for this event\, please see Monique or Tess to be added to it. \n  \n 
URL:https://www.bayquilters.com.au/event/organic-applique-with-kathy-doughty-of-material-obsession-sunday-17th-august/
LOCATION:Highett Neighbourhood Community House\, 2 Livingston Street\, Highett\, VICTORIA\, 3188\, Australia
CATEGORIES:Workshop
END:VEVENT
END:VCALENDAR