BEGIN:VCALENDAR
VERSION:2.0
PRODID:-//Bay Quilters - ECPv6.15.17.1//NONSGML v1.0//EN
CALSCALE:GREGORIAN
METHOD:PUBLISH
X-ORIGINAL-URL:https://www.bayquilters.com.au
X-WR-CALDESC:Events for Bay Quilters
REFRESH-INTERVAL;VALUE=DURATION:PT1H
X-Robots-Tag:noindex
X-PUBLISHED-TTL:PT1H
BEGIN:VTIMEZONE
TZID:Australia/Melbourne
BEGIN:STANDARD
TZOFFSETFROM:+1100
TZOFFSETTO:+1000
TZNAME:AEST
DTSTART:20250405T160000
END:STANDARD
BEGIN:DAYLIGHT
TZOFFSETFROM:+1000
TZOFFSETTO:+1100
TZNAME:AEDT
DTSTART:20251004T160000
END:DAYLIGHT
BEGIN:STANDARD
TZOFFSETFROM:+1100
TZOFFSETTO:+1000
TZNAME:AEST
DTSTART:20260404T160000
END:STANDARD
BEGIN:DAYLIGHT
TZOFFSETFROM:+1000
TZOFFSETTO:+1100
TZNAME:AEDT
DTSTART:20261003T160000
END:DAYLIGHT
BEGIN:STANDARD
TZOFFSETFROM:+1100
TZOFFSETTO:+1000
TZNAME:AEST
DTSTART:20270403T160000
END:STANDARD
BEGIN:DAYLIGHT
TZOFFSETFROM:+1000
TZOFFSETTO:+1100
TZNAME:AEDT
DTSTART:20271002T160000
END:DAYLIGHT
END:VTIMEZONE
BEGIN:VEVENT
DTSTART;TZID=Australia/Melbourne:20260202T193000
DTEND;TZID=Australia/Melbourne:20260202T210000
DTSTAMP:20260422T000915
CREATED:20260102T075937Z
LAST-MODIFIED:20260102T075937Z
UID:18677-1770060600-1770066000@www.bayquilters.com.au
SUMMARY:Bay Quilters Committee Meeting on Zoom
DESCRIPTION:Monthly Committee Meeting on Zoom \n \n\n	This content has been restricted to logged-in users only. Please log in to view this content.\n\n\n 
URL:https://www.bayquilters.com.au/event/bay-quilters-committee-meeting-on-zoom-33/
CATEGORIES:Committee Meeting,Zoom Meeting
END:VEVENT
BEGIN:VEVENT
DTSTART;TZID=Australia/Melbourne:20260207T100000
DTEND;TZID=Australia/Melbourne:20260207T143000
DTSTAMP:20260422T000915
CREATED:20260103T032308Z
LAST-MODIFIED:20260105T062652Z
UID:18679-1770458400-1770474600@www.bayquilters.com.au
SUMMARY:Contemporary Group - Saturday\, 7th February 10 am at Highett Neighbourhood House
DESCRIPTION:Come and join us for our first Contemporary Group get together of the year!  Our theme this year is Design Elements\, with a slight focus on Art Quilts. \nThe Contemporary Group is open to ALL Bay Quilters members\, whether you have put your name down for the group or not\, so if you fancy coming along and seeing what it is all about\, please do so\, you will be made very welcome.  Plus we always have AWESOME morning tea!!! \nA requirements list and information as to the programme will be emailed to members of the group prior to the event. \nPlease arrive before 10 am to allow time to set up. \nPlease bring your mug\, lunch and your name badge. \nLooking forward to seeing everyone!
URL:https://www.bayquilters.com.au/event/contemporary-group-saturday-2/
LOCATION:Highett Neighbourhood Community House\, 2 Livingston Street\, Highett\, VICTORIA\, 3188\, Australia
CATEGORIES:Contemporary Group
END:VEVENT
BEGIN:VEVENT
DTSTART;TZID=Australia/Melbourne:20260221T093000
DTEND;TZID=Australia/Melbourne:20260221T143000
DTSTAMP:20260422T000915
CREATED:20260103T033056Z
LAST-MODIFIED:20260105T060741Z
UID:18681-1771666200-1771684200@www.bayquilters.com.au
SUMMARY:Bay Quilters Monthly Meeting - Saturday 21st February - Guest speaker:  Tania Tanti\, Summer Challenge
DESCRIPTION:Guest Speaker:  Don’t miss today’s meeting\, with the amazing Tania Tanti as our guest speaker.  Tania has won numerous awards for her amazing quilts\, I am sure you will all have seen her work at the various quilt shows around Victoria and also on social media.  We are very lucky to have Tania speak to us today about her quilting journey. \nSummer Challenge:  today we will be voting for the Summer Challenge – the theme for the quilt blocks is HOPE.  Come and cast your vote for your favourite block. \nThe Trading Table and the library are open from 10 am – 11 am. \nAs usual for our meetings\, please bring your name badge\,  lunch\, your mug and your sewing.  We look forward to seeing you all.
URL:https://www.bayquilters.com.au/event/bay-quilters-monthly-meeting-5/
LOCATION:Beaumaris Library Hall\, 96 Reserve Road\, Beaumaris\, VIC\, 3193\, Australia
CATEGORIES:Monthly Meeting
END:VEVENT
BEGIN:VEVENT
DTSTART;TZID=Australia/Melbourne:20260228T100000
DTEND;TZID=Australia/Melbourne:20260228T150000
DTSTAMP:20260422T000915
CREATED:20260103T035732Z
LAST-MODIFIED:20260103T035732Z
UID:18695-1772272800-1772290800@www.bayquilters.com.au
SUMMARY:Chelsea Activity Hub Sewing Day - Saturday\,  28th February at 10 am
DESCRIPTION:Everybody welcome!!!   Come along and join Helen Clark and the Chelsea craft ladies and some Bay Quilters members at the Chelsea Activity Hub Craft Group for a sit and sew day.  This is a lovely relaxing sewing day in a beautiful environment.  Help sew some kits for QFTH!!  Morning tea provided\, tea and coffee provided. \nBYO machine and all you need sewing-wise.\n\nWhen: Saturday 28 February 2026\nWhere: 5 Showers Street\, Chelsea – plenty of parking either outside or across the Highway.\nTime: 10am to 3pm\nCost: $5.00 cash at the door (please have correct money)\n\n\nBYO sewing items\, lunch\, mug\,and don’t forget your name badge.\nWe would love to see you on the day\, if only for an hour or so.\n\nPlease try and pre-register by emailing Helen Clark or give her a call\, or see Helen at the BQ Meeting\, details are in the newsletter.\nBut if you decide on the day to come\, and have not booked\, there is heaps of room for everyone.\n\n 
URL:https://www.bayquilters.com.au/event/chelsea-activity-hub-sewing-day-4/
LOCATION:Chelsea Activity Hub\, 5 Showers Avenue\, Chelsea\, Vic\, 3196\, Australia
CATEGORIES:Sit and Sew Day
END:VEVENT
END:VCALENDAR