BEGIN:VCALENDAR
VERSION:2.0
PRODID:-//Bay Quilters - ECPv6.15.17.1//NONSGML v1.0//EN
CALSCALE:GREGORIAN
METHOD:PUBLISH
X-WR-CALNAME:Bay Quilters
X-ORIGINAL-URL:https://www.bayquilters.com.au
X-WR-CALDESC:Events for Bay Quilters
REFRESH-INTERVAL;VALUE=DURATION:PT1H
X-Robots-Tag:noindex
X-PUBLISHED-TTL:PT1H
BEGIN:VTIMEZONE
TZID:Australia/Melbourne
BEGIN:STANDARD
TZOFFSETFROM:+1100
TZOFFSETTO:+1000
TZNAME:AEST
DTSTART:20250405T160000
END:STANDARD
BEGIN:DAYLIGHT
TZOFFSETFROM:+1000
TZOFFSETTO:+1100
TZNAME:AEDT
DTSTART:20251004T160000
END:DAYLIGHT
BEGIN:STANDARD
TZOFFSETFROM:+1100
TZOFFSETTO:+1000
TZNAME:AEST
DTSTART:20260404T160000
END:STANDARD
BEGIN:DAYLIGHT
TZOFFSETFROM:+1000
TZOFFSETTO:+1100
TZNAME:AEDT
DTSTART:20261003T160000
END:DAYLIGHT
BEGIN:STANDARD
TZOFFSETFROM:+1100
TZOFFSETTO:+1000
TZNAME:AEST
DTSTART:20270403T160000
END:STANDARD
BEGIN:DAYLIGHT
TZOFFSETFROM:+1000
TZOFFSETTO:+1100
TZNAME:AEDT
DTSTART:20271002T160000
END:DAYLIGHT
END:VTIMEZONE
BEGIN:VEVENT
DTSTART;TZID=Australia/Melbourne:20260302T193000
DTEND;TZID=Australia/Melbourne:20260302T210000
DTSTAMP:20260421T222758
CREATED:20260103T033539Z
LAST-MODIFIED:20260103T033539Z
UID:18684-1772479800-1772485200@www.bayquilters.com.au
SUMMARY:Bay Quilters Committee Meeting on Zoom
DESCRIPTION:Monthly Committee Meeting on Zoom \n \n\n	This content has been restricted to logged-in users only. Please log in to view this content.\n\n\n 
URL:https://www.bayquilters.com.au/event/bay-quilters-committee-meeting-on-zoom-34/
CATEGORIES:Committee Meeting,Zoom Meeting
END:VEVENT
BEGIN:VEVENT
DTSTART;TZID=Australia/Melbourne:20260314T090000
DTEND;TZID=Australia/Melbourne:20260314T150000
DTSTAMP:20260421T222758
CREATED:20260103T040011Z
LAST-MODIFIED:20260103T040011Z
UID:18697-1773478800-1773500400@www.bayquilters.com.au
SUMMARY:Bay Quilters Sit and Sew Day - Saturday\, 14th March at 9 am - Highett Neighbourhood House
DESCRIPTION:Everybody is welcome to this event!!!      Come along and join in the fun\, a day to sit and sew together. \n\nWe are going to have an organised ‘stitch-in’ for those that wish to participate where we set up work stations and everyone is given a job\, for example:  pattern/fabric selection\, cutting\, sewing\, ironing\, basting\, binding.  You are all welcome to join in\, whether you have previously made quilts for QFTH or not.  Many hands make light work!  However\, if you would rather carry on with your own project\, that is fine too!!  The idea is to spend the day sewing together. \nBYO sewing machine\, cutting mats\, scissors\, templates/rulers\, power boards\, cushion to sit on\, and all you might need sewing-wise. \nTea and coffee will be supplied.  We will ask everyone attending to bring a small plate for morning and afternoon teas.\nBYO cup\, lunch\, mug and badge.\n\n\n We would love to see you on the day\, if only for an hour or so. Please don’t forget your Bayquilters badge.\n\nPlease try and pre-register by emailing Susanne or Marg\, or give Susanne a call\, her details are in the newsletter.\nBut if you decide on the day to come\, and have not booked\, still come along and we will fit you in.\n\n 
URL:https://www.bayquilters.com.au/event/bay-quilters-sit-and-sew-day-2/
LOCATION:Beaumaris Library Complex Small Hall\, 96 Reserve Road\, Beaumaris\, VIC\, 3193\, Australia
CATEGORIES:Sit and Sew Day
END:VEVENT
BEGIN:VEVENT
DTSTART;TZID=Australia/Melbourne:20260321T093000
DTEND;TZID=Australia/Melbourne:20260321T143000
DTSTAMP:20260421T222758
CREATED:20260105T055711Z
LAST-MODIFIED:20260105T060135Z
UID:18702-1774085400-1774103400@www.bayquilters.com.au
SUMMARY:Bay Quilters Monthly Meeting - Saturday 21st March - Guest speaker: Siska Dart
DESCRIPTION:Come along today and listen to our amazing guest speaker\, Siska Dart.  You can read all about Siska by clicking on the link here: \nhttps://www.creativesiska.com.au/bio/#:~:text=My%20name%20is%20Siska%20Dart%2C\,I%20met%20my%20Australian%20husband. \nThe Trading Table and the library will be open from 10 am – 11 am. \nAs usual for our meetings\, please bring your name badge\,  lunch\, your mug and your sewing.  We look forward to seeing you all.
URL:https://www.bayquilters.com.au/event/bay-quilters-monthly-meeting-saturday/
LOCATION:Beaumaris Library Hall\, 96 Reserve Road\, Beaumaris\, VIC\, 3193\, Australia
CATEGORIES:Monthly Meeting
END:VEVENT
BEGIN:VEVENT
DTSTART;TZID=Australia/Melbourne:20260328T103000
DTEND;TZID=Australia/Melbourne:20260328T123000
DTSTAMP:20260421T222758
CREATED:20260105T061419Z
LAST-MODIFIED:20260302T060142Z
UID:18705-1774693800-1774701000@www.bayquilters.com.au
SUMMARY:Saturday 28 March at 11 am:  Special Event on Zoom: Krista Moser from the USA
DESCRIPTION:We are so lucky to have Krista speaking to us today via zoom\, again with massive thanks to Jenny Carmichael and her generous bequest. \nMay I suggest that you set your phone alarm for 10.45 am to remind you to click on the button below to join the zoom session. \nClick below for information about Krista: \nhttps://www.bayquilters.com.au/wp-content/uploads/2026/02/Krisa-Moser-blurb.pdf \n\n\n\n\n \nClick here for Zoom\n\n\n\nTopic: Krista Moser zoom talk\nTime: Mar 28\, 2026 10:45 AM Australia/Melbourne\nJoin Zoom Meeting\nhttps://zoom.us/j/97475974010?pwd=zXWsxAv8UYzAkkUbkgha0DjWvVhGeG.1\n\nMeeting ID: 974 7597 4010\nPasscode: 569990
URL:https://www.bayquilters.com.au/event/saturday-28-june-at-10-45-am-special-event-on-zoom/
CATEGORIES:Special,Zoom Meeting
END:VEVENT
BEGIN:VEVENT
DTSTART;TZID=Australia/Melbourne:20260330T193000
DTEND;TZID=Australia/Melbourne:20260330T210000
DTSTAMP:20260421T222758
CREATED:20260103T033643Z
LAST-MODIFIED:20260322T044539Z
UID:18686-1774899000-1774904400@www.bayquilters.com.au
SUMMARY:Bay Quilters Committee Meeting on Zoom
DESCRIPTION:Monthly Committee Meeting on Zoom \n \n\n	This content has been restricted to logged-in users only. Please log in to view this content.\n\n\n 
URL:https://www.bayquilters.com.au/event/bay-quilters-committee-meeting-on-zoom-35/
CATEGORIES:Committee Meeting,Zoom Meeting
END:VEVENT
END:VCALENDAR