BEGIN:VCALENDAR
VERSION:2.0
PRODID:-//Bay Quilters - ECPv6.15.17.1//NONSGML v1.0//EN
CALSCALE:GREGORIAN
METHOD:PUBLISH
X-WR-CALNAME:Bay Quilters
X-ORIGINAL-URL:https://www.bayquilters.com.au
X-WR-CALDESC:Events for Bay Quilters
REFRESH-INTERVAL;VALUE=DURATION:PT1H
X-Robots-Tag:noindex
X-PUBLISHED-TTL:PT1H
BEGIN:VTIMEZONE
TZID:Australia/Melbourne
BEGIN:STANDARD
TZOFFSETFROM:+1100
TZOFFSETTO:+1000
TZNAME:AEST
DTSTART:20250405T160000
END:STANDARD
BEGIN:DAYLIGHT
TZOFFSETFROM:+1000
TZOFFSETTO:+1100
TZNAME:AEDT
DTSTART:20251004T160000
END:DAYLIGHT
BEGIN:STANDARD
TZOFFSETFROM:+1100
TZOFFSETTO:+1000
TZNAME:AEST
DTSTART:20260404T160000
END:STANDARD
BEGIN:DAYLIGHT
TZOFFSETFROM:+1000
TZOFFSETTO:+1100
TZNAME:AEDT
DTSTART:20261003T160000
END:DAYLIGHT
BEGIN:STANDARD
TZOFFSETFROM:+1100
TZOFFSETTO:+1000
TZNAME:AEST
DTSTART:20270403T160000
END:STANDARD
BEGIN:DAYLIGHT
TZOFFSETFROM:+1000
TZOFFSETTO:+1100
TZNAME:AEDT
DTSTART:20271002T160000
END:DAYLIGHT
END:VTIMEZONE
BEGIN:VEVENT
DTSTART;TZID=Australia/Melbourne:20260502T100000
DTEND;TZID=Australia/Melbourne:20260502T143000
DTSTAMP:20260421T222118
CREATED:20260108T051340Z
LAST-MODIFIED:20260227T043056Z
UID:18709-1777716000-1777732200@www.bayquilters.com.au
SUMMARY:Contemporary Group - Saturday\, 2nd May 10 am at Highett Neighbourhood House
DESCRIPTION:Our theme this year is Design Elements\, with a slight focus on Art Quilts. \nToday we are bringing our “creatures” back to be swapped! \nPlus\, we will be focusing on and learning about  “Abstraction”. \nThe Contemporary Group is open to ALL Bay Quilters members\, whether you have put your name down for the group or not\, so if you fancy coming along and seeing what it is all about\, please do so\, you will be made very welcome.  Plus we always have AWESOME morning tea!!!  please let Tess or Monique know if you would like to join the group. \nA requirements list and information will be emailed to members of the group prior to the event. \nPlease arrive before 10 am to allow time to set up. \nPlease bring your mug\, lunch and your name badge. \nLooking forward to seeing everyone!
URL:https://www.bayquilters.com.au/event/contemporary-group-saturday-2nd-may-10-am-at-highett/
LOCATION:Highett Neighbourhood Community House\, 2 Livingston Street\, Highett\, VICTORIA\, 3188\, Australia
CATEGORIES:Contemporary Group
END:VEVENT
BEGIN:VEVENT
DTSTART;TZID=Australia/Melbourne:20260502T100000
DTEND;TZID=Australia/Melbourne:20260502T150000
DTSTAMP:20260421T222118
CREATED:20260203T053152Z
LAST-MODIFIED:20260203T053152Z
UID:18870-1777716000-1777734000@www.bayquilters.com.au
SUMMARY:Chelsea Activity Hub Sewing Day - Saturday\,  2 May at 10 am
DESCRIPTION:Everybody welcome!!!   Come along and join Helen Clark and the Chelsea craft ladies and some Bay Quilters members at the Chelsea Activity Hub Craft Group for a sit and sew day.  This is a lovely relaxing sewing day in a beautiful environment.  Help sew some kits for QFTH!!  Morning tea provided\, tea and coffee provided. \nBYO machine and all you need sewing-wise.\n\nWhen: Saturday\, 2nd May 2026\nWhere: 5 Showers Street\, Chelsea – plenty of parking either outside or across the Highway.\nTime: 10am to 3pm\nCost: $5.00 cash at the door (please have correct money)\n\n\nBYO sewing items\, lunch\, mug\,and don’t forget your name badge.\nWe would love to see you on the day\, if only for an hour or so.\n\nPlease try and pre-register by emailing Helen Clark or give her a call\, or see Helen at the BQ Meeting\, details are in the newsletter.\nBut if you decide on the day to come\, and have not booked\, there is heaps of room for everyone.\n\n 
URL:https://www.bayquilters.com.au/event/chelsea-activity-hub-sewing-day-saturday-2/
LOCATION:Chelsea Activity Hub\, 5 Showers Avenue\, Chelsea\, Vic\, 3196\, Australia
CATEGORIES:Sit and Sew Day
END:VEVENT
BEGIN:VEVENT
DTSTART;TZID=Australia/Melbourne:20260504T193000
DTEND;TZID=Australia/Melbourne:20260504T210000
DTSTAMP:20260421T222118
CREATED:20260103T033740Z
LAST-MODIFIED:20260408T080025Z
UID:18688-1777923000-1777928400@www.bayquilters.com.au
SUMMARY:Bay Quilters Committee Meeting on Zoom
DESCRIPTION:Monthly Committee Meeting on Zoom \n \n\n	This content has been restricted to logged-in users only. Please log in to view this content.\n\n\n 
URL:https://www.bayquilters.com.au/event/bay-quilters-committee-meeting-on-zoom-36/
CATEGORIES:Committee Meeting,Zoom Meeting
END:VEVENT
BEGIN:VEVENT
DTSTART;TZID=Australia/Melbourne:20260516T093000
DTEND;TZID=Australia/Melbourne:20260516T143000
DTSTAMP:20260421T222118
CREATED:20260108T051556Z
LAST-MODIFIED:20260408T080124Z
UID:18748-1778923800-1778941800@www.bayquilters.com.au
SUMMARY:Bay Quilters Monthly Meeting - Guest Speaker Barbie Mitchell - Big Stitch Quilting
DESCRIPTION:Our Guest Speaker today is Barbie Mitchell\, who will be talking about her quilting journey\, big stitch quilting\, being an Aurifil artisan\, and more\, and sharing her amazing quilts with us.. \nDon’t forget to register for her workshop on big stitch quilting\, being held tomorrow\, 17th May. \nThe Trading Table and the library will be open as usual from 10 am – 11 am. \nPlease bring your name badge\,  lunch\, your mug and your sewing.  We look forward to seeing you all.
URL:https://www.bayquilters.com.au/event/bay-quilters-monthly-meeting-saturday-2/
LOCATION:Beaumaris Library Hall\, 96 Reserve Road\, Beaumaris\, VIC\, 3193\, Australia
CATEGORIES:Monthly Meeting
END:VEVENT
BEGIN:VEVENT
DTSTART;TZID=Australia/Melbourne:20260517T093000
DTEND;TZID=Australia/Melbourne:20260517T160000
DTSTAMP:20260421T222118
CREATED:20260108T004900Z
LAST-MODIFIED:20260408T074146Z
UID:18733-1779010200-1779033600@www.bayquilters.com.au
SUMMARY:Big Stitch Quilting with Barbie Mitchell - Sunday\, 17th May\, 9.30am - 4pm at Highett Neighbourhood House
DESCRIPTION:Come and join us for a fun and relaxing day exploring big stitch quilting with Barbie Mitchell. \nYou can read more about Barbie here: \nhttps://barbiemitchell.com.au/about \nPlease click on the button below and register for the event. \nCost of workshop:  $75.00.    Please pay this amount into our bank account to hold your place on the workshop.  Please email Emma at treasurer@bayquilters.com.au to confirm you have paid. \nRequirements List:  click on this link to view the requirements: \nhttps://www.bayquilters.com.au/wp-content/uploads/2026/04/Requirements-list-for-BM-workshop-participants.pdf \nPlease note:  There is an additional cost of $25.00 payable to Barbie on the day for the pattern and course material.   \nBay Quilters Cancellation Policy applies to this event.  Please read the policy by clicking on the link: \nhttps://www.bayquilters.com.au/wp-content/uploads/2024/11/BQ-Cancellation-Policy-July2024.pdf \nAttendance: 24 / 24Registrations are closed for this event 		\n		\n  \n  \n 
URL:https://www.bayquilters.com.au/event/big-stitch-quilting-with-barbie-mitchell-sunday-17th-may-9-30am-4pm-at-highett-neighbourhood-house/
LOCATION:Highett Neighbourhood Community House\, 2 Livingston Street\, Highett\, VICTORIA\, 3188\, Australia
CATEGORIES:Workshop
END:VEVENT
BEGIN:VEVENT
DTSTART;TZID=Australia/Melbourne:20260531T090000
DTEND;TZID=Australia/Melbourne:20260531T160000
DTSTAMP:20260421T222118
CREATED:20260414T084728Z
LAST-MODIFIED:20260414T085218Z
UID:19264-1780218000-1780243200@www.bayquilters.com.au
SUMMARY:BQ Beginners Quilt Class with Marg - Sunday\, 31st May\, 9 am - 4 pm at Highett Neighbourhood House
DESCRIPTION:New to quilting?  Come along and learn all about it\, and be amazed!  Marg Armstrong will be guiding you through the basics\, and teaching you how to make a quilt from scratch\, based on the half square triangle.  Don’t miss this opportunity to learn all about it! \nCost: $10 (to cover room rental). \nA requirements list will be sent out nearer the date\, but please remember to bring your name badge\, your lunch and a mug. \nClick on the button below to register for this workshop.
URL:https://www.bayquilters.com.au/event/bq-beginners-quilt-class-with-marg-sunday-31st-may-9-am-4-pm-at-highett-neighbourhood-house/
END:VEVENT
END:VCALENDAR