BEGIN:VCALENDAR
VERSION:2.0
PRODID:-//Bay Quilters - ECPv6.15.17.1//NONSGML v1.0//EN
CALSCALE:GREGORIAN
METHOD:PUBLISH
X-WR-CALNAME:Bay Quilters
X-ORIGINAL-URL:https://www.bayquilters.com.au
X-WR-CALDESC:Events for Bay Quilters
REFRESH-INTERVAL;VALUE=DURATION:PT1H
X-Robots-Tag:noindex
X-PUBLISHED-TTL:PT1H
BEGIN:VTIMEZONE
TZID:Australia/Melbourne
BEGIN:STANDARD
TZOFFSETFROM:+1100
TZOFFSETTO:+1000
TZNAME:AEST
DTSTART:20250405T160000
END:STANDARD
BEGIN:DAYLIGHT
TZOFFSETFROM:+1000
TZOFFSETTO:+1100
TZNAME:AEDT
DTSTART:20251004T160000
END:DAYLIGHT
BEGIN:STANDARD
TZOFFSETFROM:+1100
TZOFFSETTO:+1000
TZNAME:AEST
DTSTART:20260404T160000
END:STANDARD
BEGIN:DAYLIGHT
TZOFFSETFROM:+1000
TZOFFSETTO:+1100
TZNAME:AEDT
DTSTART:20261003T160000
END:DAYLIGHT
BEGIN:STANDARD
TZOFFSETFROM:+1100
TZOFFSETTO:+1000
TZNAME:AEST
DTSTART:20270403T160000
END:STANDARD
BEGIN:DAYLIGHT
TZOFFSETFROM:+1000
TZOFFSETTO:+1100
TZNAME:AEDT
DTSTART:20271002T160000
END:DAYLIGHT
END:VTIMEZONE
BEGIN:VEVENT
DTSTART;TZID=Australia/Melbourne:20260801T100000
DTEND;TZID=Australia/Melbourne:20260801T143000
DTSTAMP:20260422T033157
CREATED:20260227T032504Z
LAST-MODIFIED:20260227T041307Z
UID:18959-1785578400-1785594600@www.bayquilters.com.au
SUMMARY:Contemporary Group - Saturday\, 1st August 10 am at Highett Neighbourhood House
DESCRIPTION:Our theme this year is Design Elements\, with a slight focus on Art Quilts. \nThe Contemporary Group is open to ALL Bay Quilters members\, whether you have put your name down for the group or not\, so if you fancy coming along and seeing what it is all about\, please do so\, you will be made very welcome.  Plus we always have AWESOME morning tea!!!  please let Tess or Monique know if you would like to join the group. \nA requirements list and information will be emailed to members of the group prior to the event. \nPlease arrive before 10 am to allow time to set up. \nPlease bring your mug\, lunch and your name badge. \nLooking forward to seeing everyone!
URL:https://www.bayquilters.com.au/event/contemporary-group-saturday-1st-august-10-am-at-highett-neighbourhood-house/
LOCATION:Highett Neighbourhood Community House\, 2 Livingston Street\, Highett\, VICTORIA\, 3188\, Australia
CATEGORIES:Contemporary Group
END:VEVENT
BEGIN:VEVENT
DTSTART;TZID=Australia/Melbourne:20260803T193000
DTEND;TZID=Australia/Melbourne:20260803T210000
DTSTAMP:20260422T033157
CREATED:20260227T031235Z
LAST-MODIFIED:20260413T052159Z
UID:18947-1785785400-1785790800@www.bayquilters.com.au
SUMMARY:Bay Quilters Committee Meeting on Zoom
DESCRIPTION:Monthly Committee Meeting on Zoom \n \n\n	This content has been restricted to logged-in users only. Please log in to view this content.\n\n\n 
URL:https://www.bayquilters.com.au/event/bay-quilters-committee-meeting-on-zoom/
CATEGORIES:Committee Meeting,Zoom Meeting
END:VEVENT
BEGIN:VEVENT
DTSTART;TZID=Australia/Melbourne:20260815T093000
DTEND;TZID=Australia/Melbourne:20260815T143000
DTSTAMP:20260422T033157
CREATED:20260227T034045Z
LAST-MODIFIED:20260413T052241Z
UID:18961-1786786200-1786804200@www.bayquilters.com.au
SUMMARY:Bay Quilters Monthly Meeting - Saturday 15 August
DESCRIPTION:  \nThe Trading Table and the library will be open from 10 am – 11 am. \nAs usual for our meetings\, please bring your name badge\,  lunch\, your mug and your sewing.  We look forward to seeing you all.
URL:https://www.bayquilters.com.au/event/bay-quilters-monthly-meeting-saturday-15-august/
LOCATION:Beaumaris Library Hall\, 96 Reserve Road\, Beaumaris\, VIC\, 3193\, Australia
CATEGORIES:Monthly Meeting
END:VEVENT
BEGIN:VEVENT
DTSTART;TZID=Australia/Melbourne:20260822T100000
DTEND;TZID=Australia/Melbourne:20260822T150000
DTSTAMP:20260422T033157
CREATED:20260227T040323Z
LAST-MODIFIED:20260227T040323Z
UID:18973-1787392800-1787410800@www.bayquilters.com.au
SUMMARY:Chelsea Activity Hub Sewing Day - Saturday\,  22nd August at 10 am
DESCRIPTION:Everybody welcome!!!   Come along and join Helen Clark and the Chelsea craft ladies and some Bay Quilters members at the Chelsea Activity Hub Craft Group for a sit and sew day.  This is a lovely relaxing sewing day in a beautiful environment.  Help sew some kits for QFTH!!  Morning tea provided\, tea and coffee provided. \nBYO machine and all you need sewing-wise.\n\nWhen: Saturday\, 22 August 2026\nWhere: 5 Showers Street\, Chelsea – plenty of parking either outside or across the Highway.\nTime: 10am to 3pm\nCost: $5.00 cash at the door (please have correct money)\n\n\nBYO sewing items\, lunch\, mug\,and don’t forget your name badge.\nWe would love to see you on the day\, if only for an hour or so.\n\nPlease try and pre-register by emailing Helen Clark or give her a call\, or see Helen at the BQ Meeting\, details are in the newsletter.\nBut if you decide on the day to come\, and have not booked\, there is heaps of room for everyone.\n\n 
URL:https://www.bayquilters.com.au/event/chelsea-activity-hub-sewing-day-saturday-22nd-august-at-10-am/
LOCATION:Chelsea Activity Hub\, 5 Showers Avenue\, Chelsea\, Vic\, 3196\, Australia
CATEGORIES:Sit and Sew Day
END:VEVENT
END:VCALENDAR